BEGIN:VCALENDAR
VERSION:2.0
PRODID:-//ChamberMaster//Event Calendar 2.0//EN
METHOD:PUBLISH
X-PUBLISHED-TTL:P3D
REFRESH-INTERVAL:P3D
CALSCALE:GREGORIAN
BEGIN:VEVENT
DTSTART:20190124T160000Z
DTEND:20190124T163000Z
X-MICROSOFT-CDO-ALLDAYEVENT:FALSE
SUMMARY:RIBBON CUTTING--JONES AUTOMOTIVE
DESCRIPTION:RIBBON CUTTING --JONES AUTOMOTIVE
X-ALT-DESC;FMTTYPE=text/html:<span style="font-size:14px\;">RIBBON CUTTING --JONES AUTOMOTIVE</span><br />\n&nbsp\;
LOCATION:8251 Highway 278\, Covington\, GA 30014 (formally Midas Automotive)
UID:e.1627.6882
SEQUENCE:3
DTSTAMP:20260422T153437Z
URL:https://business.newtonchamber.com/events/details/ribbon-cutting-jones-automotive-6882
END:VEVENT

END:VCALENDAR
