BEGIN:VCALENDAR
VERSION:2.0
PRODID:-//ChamberMaster//Event Calendar 2.0//EN
METHOD:PUBLISH
X-PUBLISHED-TTL:P3D
REFRESH-INTERVAL:P3D
CALSCALE:GREGORIAN
BEGIN:VEVENT
DTSTART:20181109T200000Z
DTEND:20181109T210000Z
X-MICROSOFT-CDO-ALLDAYEVENT:FALSE
SUMMARY:RIBBON CUTTING--IMMEDIATE MEDCARE
DESCRIPTION:RIBBON CUTTING --Immediate MedCare \n\nhttp://www.immediate-medcare.com/
X-ALT-DESC;FMTTYPE=text/html:RIBBON CUTTING --Immediate MedCare&nbsp\;<br />\nhttp://www.immediate-medcare.com/<br />\n<br />\n&nbsp\;
LOCATION:7129 Floyd Street Covington\, GA 30014
UID:e.1627.6838
SEQUENCE:3
DTSTAMP:20260422T190147Z
URL:https://business.newtonchamber.com/events/details/ribbon-cutting-immediate-medcare-6838
END:VEVENT

END:VCALENDAR
