BEGIN:VCALENDAR
VERSION:2.0
PRODID:-//ChamberMaster//Event Calendar 2.0//EN
METHOD:PUBLISH
X-PUBLISHED-TTL:P3D
REFRESH-INTERVAL:P3D
CALSCALE:GREGORIAN
BEGIN:VEVENT
DTSTART:20180913T150000Z
DTEND:20180913T153000Z
X-MICROSOFT-CDO-ALLDAYEVENT:FALSE
SUMMARY:RIBBON CUTTING--FRAME MASTERS
DESCRIPTION:RIBBON CUTTING --FRAME MASTERS\n\nhttps://www.framemastersatl.com/
X-ALT-DESC;FMTTYPE=text/html:RIBBON CUTTING --FRAME MASTERS<br />\nhttps://www.framemastersatl.com/<br />\n<br />\n&nbsp\;
LOCATION:Frame Masters 10269 Insudtrual Blvd Covington\, GA 30014
UID:e.1627.6813
SEQUENCE:3
DTSTAMP:20260422T222618Z
URL:https://business.newtonchamber.com/events/details/ribbon-cutting-frame-masters-6813
END:VEVENT

END:VCALENDAR
