BEGIN:VCALENDAR
VERSION:2.0
PRODID:-//ChamberMaster//Event Calendar 2.0//EN
METHOD:PUBLISH
X-PUBLISHED-TTL:P3D
REFRESH-INTERVAL:P3D
CALSCALE:GREGORIAN
BEGIN:VEVENT
DTSTART:20250225T160000Z
DTEND:20250225T170000Z
X-MICROSOFT-CDO-ALLDAYEVENT:FALSE
SUMMARY:Ribbon Cutting - Exit Self Property Advisors
DESCRIPTION:Ribbon Cutting Ceremony
X-ALT-DESC;FMTTYPE=text/html:Ribbon Cutting Ceremony
LOCATION:1150 Church Street\, Covington 30014
UID:e.1627.13513
SEQUENCE:3
DTSTAMP:20260420T081350Z
URL:https://business.newtonchamber.com/events/details/ribbon-cutting-exit-self-property-advisors-13513
END:VEVENT

END:VCALENDAR
