BEGIN:VCALENDAR
VERSION:2.0
PRODID:-//ChamberMaster//Event Calendar 2.0//EN
METHOD:PUBLISH
X-PUBLISHED-TTL:P3D
REFRESH-INTERVAL:P3D
CALSCALE:GREGORIAN
BEGIN:VEVENT
DTSTART:20190627T150000Z
DTEND:20190627T153000Z
X-MICROSOFT-CDO-ALLDAYEVENT:FALSE
SUMMARY:RIBBON CUTTING @ COMPLETE AUTOMOTIVE TIRE CENTER
DESCRIPTION:Join us for a Ribbon Cutting at Complete Automotive Tire Center!
X-ALT-DESC;FMTTYPE=text/html:Join us for a Ribbon Cutting at Complete Automotive Tire Center!
LOCATION:10500 Eagle Drive\, Covington\, GA 30014\, USA
UID:e.1627.7244
SEQUENCE:3
DTSTAMP:20260422T082805Z
URL:https://business.newtonchamber.com/events/details/ribbon-cutting-complete-automotive-tire-center-7244
END:VEVENT

END:VCALENDAR
