BEGIN:VCALENDAR
VERSION:2.0
PRODID:-//ChamberMaster//Event Calendar 2.0//EN
METHOD:PUBLISH
X-PUBLISHED-TTL:P3D
REFRESH-INTERVAL:P3D
CALSCALE:GREGORIAN
BEGIN:VEVENT
DTSTART:20181016T133000Z
DTEND:20181016T143000Z
X-MICROSOFT-CDO-ALLDAYEVENT:FALSE
SUMMARY:RIBBON CUTTING--COMMUNITY RESOURCES CENTER
DESCRIPTION:RIBBON CUTTING --Community Resources Center
X-ALT-DESC;FMTTYPE=text/html:RIBBON CUTTING --Community Resources Center<br />\n<br />\n&nbsp\;
LOCATION:8205 Hazelbrand Rd\, NE Covington\, GA **Behind Newton County Library on Floyd Street & Next to Newton County Health Department
UID:e.1627.6837
SEQUENCE:3
DTSTAMP:20260422T204241Z
URL:https://business.newtonchamber.com/events/details/ribbon-cutting-community-resources-center-6837
END:VEVENT

END:VCALENDAR
