BEGIN:VCALENDAR
VERSION:2.0
PRODID:-//ChamberMaster//Event Calendar 2.0//EN
METHOD:PUBLISH
X-PUBLISHED-TTL:P3D
REFRESH-INTERVAL:P3D
CALSCALE:GREGORIAN
BEGIN:VEVENT
DTSTART:20181004T150000Z
DTEND:20181004T153000Z
X-MICROSOFT-CDO-ALLDAYEVENT:FALSE
SUMMARY:RIBBON CUTTING--ANTHOLOGY HAIR & BODY
DESCRIPTION:RIBBON CUTTING --Anthologhy Hair & Body (formally known as Charmed Salon & Spa)
X-ALT-DESC;FMTTYPE=text/html:RIBBON CUTTING --Anthologhy Hair &amp\; Body (formally known as Charmed Salon &amp\; Spa)<br />\n<br />\n&nbsp\;
LOCATION:1123 Church Street Covington\, GA 30014
UID:e.1627.6825
SEQUENCE:3
DTSTAMP:20260422T204519Z
URL:https://business.newtonchamber.com/events/details/ribbon-cutting-anthology-hair-body-6825
END:VEVENT

END:VCALENDAR
