BEGIN:VCALENDAR
VERSION:2.0
PRODID:-//ChamberMaster//Event Calendar 2.0//EN
METHOD:PUBLISH
X-PUBLISHED-TTL:P3D
REFRESH-INTERVAL:P3D
CALSCALE:GREGORIAN
BEGIN:VEVENT
DTSTART:20190517T140000Z
DTEND:20190517T180000Z
X-MICROSOFT-CDO-ALLDAYEVENT:FALSE
SUMMARY:Ribbity Ribbitz Open House
DESCRIPTION:Please join us for an Open House on Friday\, May 17 from 10-2.  We'll have games\, prizes and food and will be doing educational demos on embroidery\, screen printing and digital printing!  We'd love to see you - so drop in.
X-ALT-DESC;FMTTYPE=text/html:Please join us for an Open House on Friday\, May 17 from 10-2.&nbsp\; We&#39\;ll have games\, prizes and food and will be doing educational demos on embroidery\, screen printing and digital printing!&nbsp\; We&#39\;d love to see you - so drop in.
LOCATION:2125C Pace Street\, Covington
UID:e.1627.7231
SEQUENCE:3
DTSTAMP:20260422T094728Z
URL:https://business.newtonchamber.com/events/details/ribbity-ribbitz-open-house-7231
END:VEVENT

END:VCALENDAR
