BEGIN:VCALENDAR
VERSION:2.0
PRODID:-//ChamberMaster//Event Calendar 2.0//EN
METHOD:PUBLISH
X-PUBLISHED-TTL:P3D
REFRESH-INTERVAL:P3D
CALSCALE:GREGORIAN
BEGIN:VEVENT
DTSTART:20170622T221500Z
DTEND:20170622T234500Z
X-MICROSOFT-CDO-ALLDAYEVENT:FALSE
SUMMARY:Retirement Planning Seminar - "Things to Do (And a Few Don'ts) While Planning for Retirement"
DESCRIPTION:Come and join us for a complimentary session on making sure that you are on the correct path to a financially secure future\, with tips on how best to ensure that all of your retirement planning "bases are covered". Refreshments served.\n\nPlease RSVP to Mark at mark@reaganfinancialplanning.com or call Mark at 770-658-9440 to reserve a spot for the evening that works best with your summer schedule. All ages are welcome and encouraged to attend.
X-ALT-DESC;FMTTYPE=text/html:<span style="font-size:18pt"><span style="font-family:georgia\,serif">Come and join us for a complimentary session on making sure that you are on the correct path to a financially secure future\, with tips on how best to ensure that all of your retirement planning &ldquo\;bases are covered&rdquo\;. <strong>Refreshments served.</strong></span></span><br />\n<span style="font-size:18pt"><span style="font-family:georgia\,serif">Please RSVP to Mark at </span></span><span style="font-size:18pt"><span style="font-family:georgia\,serif">mark@reaganfinancialplanning.com</span></span><span style="font-size:18pt"><span style="font-family:georgia\,serif"> or call Mark at 770-658-9440 to reserve a spot for the evening that works best with your summer schedule. <strong>All ages are welcome and encouraged to attend.</strong></span></span><br />\n&nbsp\;
LOCATION:NEWTON COUNTY LIBRARY- MAIN BRANCH 7116 FLOYD STREET\, COVINGTON
UID:e.1627.3925
SEQUENCE:3
DTSTAMP:20260422T104359Z
URL:https://business.newtonchamber.com/events/details/retirement-planning-seminar-things-to-do-and-a-few-don-ts-while-planning-for-retirement-3925
END:VEVENT

END:VCALENDAR
