BEGIN:VCALENDAR
VERSION:2.0
PRODID:-//ChamberMaster//Event Calendar 2.0//EN
METHOD:PUBLISH
X-PUBLISHED-TTL:P3D
REFRESH-INTERVAL:P3D
CALSCALE:GREGORIAN
BEGIN:VEVENT
DTSTART:20170706T221500Z
DTEND:20170706T234500Z
X-MICROSOFT-CDO-ALLDAYEVENT:FALSE
SUMMARY:RETIREMENT PLANNING SEMINAR FOR ALL AGES - “Things to Do (& a Few Don’ts) While Planning for Retirement”
DESCRIPTION:Come and join us for a complimentary session on making sure that you are on the correct path to a financially secure future\, with tips on how best to ensure that all of your retirement planning "bases are covered". Dinner served.
X-ALT-DESC;FMTTYPE=text/html:<p style="text-align:center"><span style="font-family:georgia\,serif\; font-size:18pt">Come and join us for a complimentary session on making sure that you are on the correct path to a financially secure future\, with tips on how best to ensure that all of your retirement planning &ldquo\;bases are covered&rdquo\;.&nbsp\;Dinner served.</span></p>\n
LOCATION:NEWTON COUNTY LIBRARY- MAIN BRANCH 7116 FLOYD STREET\, COVINGTON
UID:e.1627.3927
SEQUENCE:3
DTSTAMP:20260422T114814Z
URL:https://business.newtonchamber.com/events/details/retirement-planning-seminar-for-all-ages-things-to-do-a-few-don-ts-while-planning-for-retirement-3927
END:VEVENT

END:VCALENDAR
