BEGIN:VCALENDAR
VERSION:2.0
PRODID:-//ChamberMaster//Event Calendar 2.0//EN
METHOD:PUBLISH
X-PUBLISHED-TTL:P3D
REFRESH-INTERVAL:P3D
CALSCALE:GREGORIAN
BEGIN:VEVENT
DTSTART:20161122T210000Z
DTEND:20161122T213000Z
X-MICROSOFT-CDO-ALLDAYEVENT:FALSE
SUMMARY:Resurgens East Surgery Center~~RIBBON CUTTING~~
DESCRIPTION:RIBBON CUTTING~~Resurgens East Surgery Center
X-ALT-DESC;FMTTYPE=text/html:RIBBON CUTTING~~Resurgens&nbsp\;East Surgery Center&nbsp\; &nbsp\;
LOCATION:Resurgens East Surgery Center 3241 Iris Drive Covington\, GA 30016
UID:e.1627.3692
SEQUENCE:3
DTSTAMP:20260422T001113Z
URL:https://business.newtonchamber.com/events/details/resurgens-east-surgery-center-ribbon-cutting-3692
END:VEVENT

END:VCALENDAR
