BEGIN:VCALENDAR
VERSION:2.0
PRODID:-//ChamberMaster//Event Calendar 2.0//EN
METHOD:PUBLISH
X-PUBLISHED-TTL:P3D
REFRESH-INTERVAL:P3D
CALSCALE:GREGORIAN
BEGIN:VEVENT
DTSTART:20160416T220000Z
DTEND:20160417T020000Z
X-MICROSOFT-CDO-ALLDAYEVENT:FALSE
SUMMARY:Raise the Roof - Grapevine Concert & Fundraiser Hosted by the Friends of Porterdale
DESCRIPTION:Come and enjoy a Chastain style event in historic Porter Memorial Gym\, hosted by the Friends of Porterdale. Music by Grapevine\, Georgia's premier party band. Tickets are $25.00 per person. Table for 8 for an additional charge of $50.00. BYO Food etc. Cash Bar available. Great prizes for the best decorated table. Enjoy a fun night in the village and help support the roof raising for the stage in the gym. Tickets are available at Company Store &  Deli\, the office at the Porterdale Mill Lofts and Porterdale City Hall. Tickets are available at the door on the day of the event Call Kay Coggin to reserve a table at (770) 787-0001
X-ALT-DESC;FMTTYPE=text/html:Come and enjoy a Chastain style event in historic Porter Memorial Gym\, hosted by the Friends of Porterdale. Music by Grapevine\, Georgia&#39\;s premier party band. Tickets are $25.00 per person. Table for 8 for an additional charge of $50.00.&nbsp\;BYO Food etc. Cash Bar available. Great prizes for the best decorated table. Enjoy a fun night in the village and help support the roof raising for the stage in the gym. Tickets are available at Company Store &amp\; &nbsp\;Deli\, the office at the Porterdale Mill Lofts and Porterdale City Hall. Tickets are available at the door on the day of the event Call Kay Coggin to reserve a table at (770) 787-0001&nbsp\;
LOCATION:Porter Memorial Gym - 2400 Main Street
UID:e.1627.1706
SEQUENCE:3
DTSTAMP:20260421T134520Z
URL:https://business.newtonchamber.com/events/details/raise-the-roof-grapevine-concert-fundraiser-hosted-by-the-friends-of-porterdale-04-16-2016-1706
END:VEVENT

END:VCALENDAR
