BEGIN:VCALENDAR
VERSION:2.0
PRODID:-//ChamberMaster//Event Calendar 2.0//EN
METHOD:PUBLISH
X-PUBLISHED-TTL:P3D
REFRESH-INTERVAL:P3D
CALSCALE:GREGORIAN
BEGIN:VEVENT
DTSTART:20161008T160000Z
DTEND:20161009T020000Z
X-MICROSOFT-CDO-ALLDAYEVENT:FALSE
SUMMARY:Pumpkin Festival
DESCRIPTION:Fun for the whole family including craft vendors\, fall activities\, live music\, and more! \n\n \n\nEVENT HIGHLIGHTS:\n\n- Live music by the Country River Band (1-5PM)\n\n- Helicopter rides by BMW Aviation (Starting at $35)\n\n \n\nAlso enjoy our regular family-friendly activities including our giant corn maze and maze games\, pumpkin patch\, hayrides\, jumbo jump pad\, corn cannon\, pedal carts\, cow train\, mechanical bull\, pony rides\, play area\, concessions\, farm stand (featuring fall d cor\, produce\, and specialty food items)\, and more. (And don't forget to bring your flashlight to explore the maze after dark on Saturday night if you're feeling daring!)\n\n \n\nAccess to the Pumpkin Patch and Farm Stand is FREE. FREE parking. All other attractions require wristbands or an additional fee.\n\n \n\nADMISSION INFO:\n\n$10 - Corn Maze & Attractions\n\n$12 - Corn Maze & Attractions PLUS Hayride\n\n$14 - Corn Maze\, Attractions\, Hayride PLUS Bonfire\n\nChildren 3 years and under: FREE\n\nMilitary: FREE with ID\n\n \n\nPumpkins\, concessions\, mechanical bull rides\, helicopter rides\, and pony rides are an additional fee.\n\n \n\nMitcham Farm is great for families\, groups\, scout troops\, youth groups\, school field trips\, and special events including parties\, weddings\, reunions\, and corporate events. \n\n \n\nWe're a family owned and operated farm offering "Real Farm\, Real Food and Real FUN!" The farm is located just 30 miles east of downtown Atlanta\, less than 5 miles from Interstate 20. \n\n \n\nVENDORS: We're looking for arts and crafts vendors. Click here for vendor information and registration: www.mitchamfarm.com/vendors\n\n \n\nOTHER 2016 EVENTS:\n\nOctober 7   Relay for Life Fundraiser\n\nOctober 8   Pumpkin Festival \n\nOctober 9   First Responders Recognition Day & DJ T. Rumble\n\nOctober 21-23   Teacher Appreciation Weekend\n\nOctober 22   Scout Day & Birds of Prey Demonstrations\n\nOctober 28-30   Haunted Weekend\n\nOctober 29   Costume Contest & Food Truck Invasion\n\nOctober 30   Birds of Prey Demonstrations \n\nNovember 5   Military Appreciation Day & Covenant House Georgia Fundraiser)\n\n\n\nLEARN MORE: www.mitchamfarm.com
X-ALT-DESC;FMTTYPE=text/html:<span style="color:#4b4f56"><span style="font-family:arial\,sans-serif">Fun for the whole family including craft vendors\, fall activities\, live music\, and more! </span></span><br />\n&nbsp\;<br />\n<strong><span style="color:#4b4f56"><span style="font-family:arial\,sans-serif">EVENT HIGHLIGHTS:</span></span></strong><br />\n<span style="color:#4b4f56"><span style="font-family:arial\,sans-serif">- Live music by the Country River Band (1-5PM)</span></span><br />\n<span style="color:#4b4f56"><span style="font-family:arial\,sans-serif">- Helicopter rides by BMW Aviation (Starting at $35)</span></span><br />\n&nbsp\;<br />\n<span style="color:#4b4f56"><span style="font-family:arial\,sans-serif">Also enjoy our regular family-friendly activities including our giant corn maze and maze games\, pumpkin patch\, hayrides\, jumbo jump pad\, corn cannon\, pedal carts\, cow train\, mechanical bull\, pony rides\, play area\, concessions\, farm stand (featuring fall d&eacute\;cor\, produce\, and specialty food items)\, and more. (And don&rsquo\;t forget to bring your flashlight to explore the maze after dark on Saturday night if you&rsquo\;re feeling daring!)</span></span><br />\n&nbsp\;<br />\n<span style="color:#4b4f56"><span style="font-family:arial\,sans-serif">Access to the Pumpkin Patch and Farm Stand is FREE. FREE parking. All other attractions require wristbands or an additional fee.</span></span><br />\n&nbsp\;<br />\n<strong><span style="color:#4b4f56"><span style="font-family:arial\,sans-serif">ADMISSION INFO:</span></span></strong><br />\n<span style="color:#4b4f56"><span style="font-family:arial\,sans-serif">$10 - Corn Maze &amp\; Attractions</span></span><br />\n<span style="color:#4b4f56"><span style="font-family:arial\,sans-serif">$12 - Corn Maze &amp\; Attractions PLUS Hayride</span></span><br />\n<span style="color:#4b4f56"><span style="font-family:arial\,sans-serif">$14 - Corn Maze\, Attractions\, Hayride PLUS Bonfire</span></span><br />\n<span style="color:#4b4f56"><span style="font-family:arial\,sans-serif">Children 3 years and under: FREE</span></span><br />\n<span style="color:#4b4f56"><span style="font-family:arial\,sans-serif">Military: FREE with ID</span></span><br />\n&nbsp\;<br />\n<span style="color:#4b4f56"><span style="font-family:arial\,sans-serif">Pumpkins\, concessions\, mechanical bull rides\, helicopter rides\, and pony rides are an additional fee.</span></span><br />\n&nbsp\;<br />\n<span style="color:#4b4f56"><span style="font-family:arial\,sans-serif">Mitcham Farm is great for families\, groups\, scout troops\, youth groups\, school field trips\, and special events including parties\, weddings\, reunions\, and corporate events. </span></span><br />\n&nbsp\;<br />\n<span style="color:#4b4f56"><span style="font-family:arial\,sans-serif">We&rsquo\;re a family owned and operated farm offering &ldquo\;Real Farm\, Real Food and Real FUN!&rdquo\; The farm is located just 30 miles east of downtown Atlanta\, less than 5 miles from Interstate 20. </span></span><br />\n&nbsp\;<br />\n<span style="color:#4b4f56"><span style="font-family:arial\,sans-serif">VENDORS: We&#39\;re looking for arts and crafts vendors. Click here for vendor information and registration: </span></span><span style="font-family:times new roman\,serif"><span style="font-size:12.0pt"><a href="http://www.mitchamfarm.com/vendors"><span style="color:#365899"><span style="font-family:arial\,sans-serif"><span style="font-size:11pt">www.mitchamfarm.com/vendors</span></span></span></a></span></span><br />\n&nbsp\;<br />\n<strong><span style="color:#4b4f56"><span style="font-family:arial\,sans-serif">OTHER 2016 EVENTS</span></span></strong><strong><span style="color:black"><span style="font-family:arial\,sans-serif">:</span></span></strong><br />\n<span style="color:#504E4E"><span style="font-family:arial\,sans-serif">October 7 &ndash\; Relay for Life Fundraiser</span></span><br />\n<span style="color:#504E4E"><span style="font-family:arial\,sans-serif">October 8 &ndash\; <strong>Pumpkin Festival</strong> </span></span><br />\n<span style="color:#504E4E"><span style="font-family:arial\,sans-serif">October 9 &ndash\; First Responders Recognition Day &amp\; DJ T. Rumble</span></span><br />\n<span style="color:#504E4E"><span style="font-family:arial\,sans-serif">October 21-23 &ndash\; Teacher Appreciation Weekend</span></span><br />\n<span style="color:#504E4E"><span style="font-family:arial\,sans-serif">October 22 &ndash\; Scout Day &amp\; Birds of Prey Demonstrations</span></span><br />\n<span style="color:#504E4E"><span style="font-family:arial\,sans-serif">October 28-30 &ndash\; <strong>Haunted Weekend</strong></span></span><br />\n<span style="color:#504E4E"><span style="font-family:arial\,sans-serif">October 29 &ndash\; Costume Contest &amp\; Food Truck Invasion</span></span><br />\n<span style="color:#504E4E"><span style="font-family:arial\,sans-serif">October 30 &ndash\; Birds of Prey Demonstrations </span></span><br />\n<span style="color:#504E4E"><span style="font-family:arial\,sans-serif">November 5 &ndash\; Military Appreciation Day &amp\; Covenant House Georgia Fundraiser)</span></span><br />\n<br />\n<span style="color:#4b4f56"><span style="font-family:arial\,sans-serif">LEARN MORE: </span></span><span style="font-family:times new roman\,serif"><span style="font-size:12.0pt"><a href="http://mitchamfarm.com/"><span style="color:#365899"><span style="font-family:arial\,sans-serif"><span style="font-size:11pt">www.mitchamfarm.com</span></span></span></a></span></span>
LOCATION:Mitcham Farm 797 Macedonia Church Rd Oxford\, Georgia 30054
UID:e.1627.2664
SEQUENCE:3
DTSTAMP:20260421T223520Z
URL:https://business.newtonchamber.com/events/details/pumpkin-festival-2664
END:VEVENT

END:VCALENDAR
