BEGIN:VCALENDAR
VERSION:2.0
PRODID:-//ChamberMaster//Event Calendar 2.0//EN
METHOD:PUBLISH
X-PUBLISHED-TTL:P3D
REFRESH-INTERVAL:P3D
CALSCALE:GREGORIAN
BEGIN:VEVENT
DTSTART:20181022T210000Z
DTEND:20181023T000000Z
X-MICROSOFT-CDO-ALLDAYEVENT:FALSE
SUMMARY:Public Forum - The Dollars and Sense of Protecting Community Character. Speaker Ed McMahon from the Urban Land Institute
DESCRIPTION:Monday October 22 - 5 PM The Conservation Fund and the Village of Porterdale\, are hosting a free Public Forum. The speaker is Ed McMahon - Chair for Sustainable Development and Environmental Policy\, Urban Land Institute - The Dollars and Sense of Protecting Community Character\, sponsored by the Community Foundation for Greater Atlanta. This is open to all\, including municipal and county agencies\, chambers of commerce\, art groups\, historical societies\, recreation/trail and agricultural/horticultural groups. The presentation speaks to the importance of the shared responsibility for protecting community character and the positive impact it can have on community and economic development. Registration is free https://www.surveymonkey.com/r/BX69MRF
X-ALT-DESC;FMTTYPE=text/html:<span style="background-color:rgb(255\, 255\, 255)\; color:rgb(29\, 33\, 41)\; font-family:helvetica\,arial\,sans-serif\; font-size:14px">Monday October 22 - 5 PM The Conservation Fund and the Village of Porterdale\, are hosting a free Public Forum. The speaker is Ed McMahon - Chair for Sustainable Development and Environmental Policy\, Urban Land Institute - The Dollars and Sense of Protecting Community Character\, sponsored by the Community Foundation for Greater Atlanta. This is open to all\, including municipal and county agencies\, chambers of commerce\, art groups\, historical societies\, recreation/trail and agricultural/horticultural groups. The presentation speaks to the importance of the shared responsibility for protecting community character and the positive impact it can have on community and economic development. Registration is free&nbsp\;</span><a href="https://www.surveymonkey.com/r/BX69MRF" rel="noopener nofollow" style="color: rgb(54\, 88\, 153)\; cursor: pointer\; text-decoration-line: none\; font-family: Helvetica\, Arial\, sans-serif\; font-size: 14px\; background-color: rgb(255\, 255\, 255)\;" target="_blank">https://www.surveymonkey.com/r/BX69MRF</a>
LOCATION:Porter Performing Arts Center\, 140 Ram Dr. Covington GA 30014
UID:e.1627.6840
SEQUENCE:3
DTSTAMP:20260422T204647Z
URL:https://business.newtonchamber.com/events/details/public-forum-the-dollars-and-sense-of-protecting-community-character-speaker-ed-mcmahon-from-the-urban-land-institute-6840
END:VEVENT

END:VCALENDAR
