BEGIN:VCALENDAR
VERSION:2.0
PRODID:-//ChamberMaster//Event Calendar 2.0//EN
METHOD:PUBLISH
X-PUBLISHED-TTL:P3D
REFRESH-INTERVAL:P3D
CALSCALE:GREGORIAN
BEGIN:VEVENT
DTSTART:20160430T150000Z
DTEND:20160430T180000Z
X-MICROSOFT-CDO-ALLDAYEVENT:FALSE
SUMMARY:Princess Fun Day
DESCRIPTION:We will be having a Princess fun day with crafts\, games\, and giveaways. So bring your family out for a few hours of fun!!!!
X-ALT-DESC;FMTTYPE=text/html:We will be having a Princess fun day with crafts\, games\, and giveaways. So bring your family out for a few hours of fun!!!!
LOCATION:
UID:e.1627.1705
SEQUENCE:3
DTSTAMP:20260421T134113Z
URL:https://business.newtonchamber.com/events/details/princess-fun-day-04-30-2016-1705
END:VEVENT

END:VCALENDAR
