BEGIN:VCALENDAR
VERSION:2.0
PRODID:-//ChamberMaster//Event Calendar 2.0//EN
METHOD:PUBLISH
X-PUBLISHED-TTL:P3D
REFRESH-INTERVAL:P3D
CALSCALE:GREGORIAN
BEGIN:VEVENT
DTSTART:20190312T190000Z
DTEND:20190312T230000Z
X-MICROSOFT-CDO-ALLDAYEVENT:FALSE
SUMMARY:Prep for Prom Event
DESCRIPTION:We are hosting an event for all High School girls to get picture perfect for prom! Join us March 12th from 3-7 and receieve a free skin consultation from one of our highly skilled skin therapists! Purchase your prom packages at a discounted rate! All prom packages are available to High School Clients through April 30th.
X-ALT-DESC;FMTTYPE=text/html:We are hosting an event for all High School girls to get picture perfect for prom! Join us March 12th from 3-7 and receieve a free skin consultation from one of our highly skilled skin therapists! Purchase your prom packages at a discounted rate! All prom packages are available to High School Clients through April 30th.
LOCATION:
UID:e.1627.6909
SEQUENCE:3
DTSTAMP:20260422T122514Z
URL:https://business.newtonchamber.com/events/details/prep-for-prom-event-6909
END:VEVENT

END:VCALENDAR
