BEGIN:VCALENDAR
VERSION:2.0
PRODID:-//ChamberMaster//Event Calendar 2.0//EN
METHOD:PUBLISH
X-PUBLISHED-TTL:P3D
REFRESH-INTERVAL:P3D
CALSCALE:GREGORIAN
BEGIN:VEVENT
DTSTART:20171130T130000Z
DTEND:20171130T140000Z
X-MICROSOFT-CDO-ALLDAYEVENT:FALSE
SUMMARY:Pre-Legislative Breakfast
DESCRIPTION:Join us at 8am on Wednesday\, November 30th and meet your state representatives at the 2017 AT&T Pre-Legislative Breakfast .  This event is from 8am-9am and is free to our Chamber Members. You must RSVP to attend as space is limited.
X-ALT-DESC;FMTTYPE=text/html:<span style="color:#003B3A\;"><span style="font-size:14.0pt\;">Join us at 8am on Wednesday\, November 30th and meet your state representatives at the 2017 AT&amp\;T Pre-Legislative Breakfast . &nbsp\;This event is from 8am-9am and is free to our Chamber Members. You must RSVP to attend as space is limited.&nbsp\;</span></span>
LOCATION:2104 Washington Street Covington\, GA 30014
UID:e.1627.4065
SEQUENCE:3
DTSTAMP:20260422T172345Z
URL:https://business.newtonchamber.com/events/details/pre-legislative-breakfast-4065
END:VEVENT

END:VCALENDAR
