BEGIN:VCALENDAR
VERSION:2.0
PRODID:-//ChamberMaster//Event Calendar 2.0//EN
METHOD:PUBLISH
X-PUBLISHED-TTL:P3D
REFRESH-INTERVAL:P3D
CALSCALE:GREGORIAN
BEGIN:VEVENT
DTSTART:20181209T200000Z
DTEND:20181209T210000Z
X-MICROSOFT-CDO-ALLDAYEVENT:FALSE
SUMMARY:Porterdale Tuba Christmas - 10th Anniversary
DESCRIPTION:Porterdale's 10th Annual Tuba Christmas - A peformance of fun and joy\, in the spirit of the Christmas Season\, at Porter Memorial Gymnasium - Main Street Porterdale.
X-ALT-DESC;FMTTYPE=text/html:Porterdale&#39\;s 10th Annual Tuba Christmas - A peformance of fun and joy\, in the spirit of the Christmas Season\, at Porter Memorial Gymnasium - Main Street Porterdale.&nbsp\;
LOCATION:Porter Memorial Gymnsaium
UID:e.1627.6862
SEQUENCE:3
DTSTAMP:20260422T173000Z
URL:https://business.newtonchamber.com/events/details/porterdale-tuba-christmas-10th-anniversary-6862
END:VEVENT

END:VCALENDAR
