BEGIN:VCALENDAR
VERSION:2.0
PRODID:-//ChamberMaster//Event Calendar 2.0//EN
METHOD:PUBLISH
X-PUBLISHED-TTL:P3D
REFRESH-INTERVAL:P3D
CALSCALE:GREGORIAN
BEGIN:VEVENT
DTSTART:20170929T000000Z
DTEND:20170929T020000Z
X-MICROSOFT-CDO-ALLDAYEVENT:FALSE
SUMMARY:Porterdale Film Crew presents Social Circle - A Small Town Crime Story\, a film by Jack M. Moon
DESCRIPTION:Join the Porterdale Film Crew at their monthly meetup for the screening of Social Circle - A Small Town Crime Story by Jack M. Moon\, at the Speakeasy in downtown Porterdale. If you haven't been to the Speakeasy you are in for a surprise.
X-ALT-DESC;FMTTYPE=text/html:Join the Porterdale Film Crew at their monthly meetup for the screening of Social Circle - A Small Town Crime Story by Jack M. Moon\, at the Speakeasy in downtown Porterdale. If you haven&#39\;t been to the Speakeasy you are in for a surprise.
LOCATION:2001 Main Street\, Porterdale\, 30014. Use the side entrance
UID:e.1627.4059
SEQUENCE:3
DTSTAMP:20260422T160302Z
URL:https://business.newtonchamber.com/events/details/porterdale-film-crew-presents-social-circle-a-small-town-crime-story-a-film-by-jack-m-moon-4059
END:VEVENT

END:VCALENDAR
