BEGIN:VCALENDAR
VERSION:2.0
PRODID:-//ChamberMaster//Event Calendar 2.0//EN
METHOD:PUBLISH
X-PUBLISHED-TTL:P3D
REFRESH-INTERVAL:P3D
CALSCALE:GREGORIAN
BEGIN:VEVENT
DTSTART:20170305T190000Z
DTEND:20170305T210000Z
X-MICROSOFT-CDO-ALLDAYEVENT:FALSE
SUMMARY:Piedmont Academy Open House
DESCRIPTION:Come and discover how Piedmont Academy can open doors to your education needs.  Piedmont Academy is hosting an Open House Sunday\, March 5\, 2017 from 2:00 p.m. - 4:00 p.m.
X-ALT-DESC;FMTTYPE=text/html:Come and discover how Piedmont Academy can open doors to your education needs.&nbsp\; Piedmont Academy is hosting an Open House Sunday\, March 5\, 2017 from 2:00 p.m. - 4:00 p.m.&nbsp\;
LOCATION:126 Highway 212 West P.O. Box 231 Monticello\, GA 31064
UID:e.1627.3779
SEQUENCE:3
DTSTAMP:20260422T073816Z
URL:https://business.newtonchamber.com/events/details/piedmont-academy-open-house-3779
END:VEVENT

END:VCALENDAR
