BEGIN:VCALENDAR
VERSION:2.0
PRODID:-//ChamberMaster//Event Calendar 2.0//EN
METHOD:PUBLISH
X-PUBLISHED-TTL:P3D
REFRESH-INTERVAL:P3D
CALSCALE:GREGORIAN
BEGIN:VEVENT
DTSTART:20170310T140000Z
DTEND:20170310T170000Z
X-MICROSOFT-CDO-ALLDAYEVENT:FALSE
SUMMARY:Piedmont Academy Open House
DESCRIPTION:Come and discover how Piedmont Academy can open doors to your education needs.  Please plan to join us for our Open House Friday\, March 10th at 9:00 a.m.  This is a great opportunity to visit the school campus\, ask questions\, tour\, and spend some time on campus while the school is active with student life.
X-ALT-DESC;FMTTYPE=text/html:Come and discover how Piedmont Academy can open doors to your education needs.&nbsp\; Please plan to join us for our&nbsp\;Open House Friday\, March 10th at 9:00 a.m.&nbsp\; This is a great opportunity to visit the school campus\, ask questions\, tour\, and spend some time on campus while the&nbsp\;school is active with student life.
LOCATION:126 Highway 212 West P.O. Box 231 Monticello\, GA 31064
UID:e.1627.3780
SEQUENCE:3
DTSTAMP:20260422T062109Z
URL:https://business.newtonchamber.com/events/details/piedmont-academy-open-house-03-10-2017-3780
END:VEVENT

END:VCALENDAR
