BEGIN:VCALENDAR
VERSION:2.0
PRODID:-//ChamberMaster//Event Calendar 2.0//EN
METHOD:PUBLISH
X-PUBLISHED-TTL:P3D
REFRESH-INTERVAL:P3D
CALSCALE:GREGORIAN
BEGIN:VEVENT
DTSTART:20160916T141500Z
DTEND:20160916T153000Z
X-MICROSOFT-CDO-ALLDAYEVENT:FALSE
SUMMARY:Path Project Awareness Lunch
DESCRIPTION:Path Project Awareness Lunch\n\n\n\nEveryone is invited to come have free pizza with us at Your Pie Covington. Path Project is a Non-Profit Youth and Community Development program. We work with mostly Latino Immigrant familes in trailer park communities. We will introduce you to what Path Project is doing locally and you will hear awesome stories. See you soon!
X-ALT-DESC;FMTTYPE=text/html:Path Project Awareness Lunch<br />\n<br />\nEveryone is invited to come have free pizza with us at Your Pie Covington. Path Project is a Non-Profit Youth and Community Development program. We work with mostly Latino Immigrant familes in trailer park communities. We will introduce you to what Path Project is doing locally and you will hear awesome stories. See you soon!
LOCATION:Your Pie Covington\, GA
UID:e.1627.2663
SEQUENCE:3
DTSTAMP:20260421T212411Z
URL:https://business.newtonchamber.com/events/details/path-project-awareness-lunch-2663
END:VEVENT

END:VCALENDAR
