BEGIN:VCALENDAR
VERSION:2.0
PRODID:-//ChamberMaster//Event Calendar 2.0//EN
METHOD:PUBLISH
X-PUBLISHED-TTL:P3D
REFRESH-INTERVAL:P3D
CALSCALE:GREGORIAN
BEGIN:VEVENT
DTSTART:20131005T170000Z
DTEND:20131006T030000Z
X-MICROSOFT-CDO-ALLDAYEVENT:FALSE
SUMMARY:Party on The Farm 2013
DESCRIPTION:Six String Southern Productions and Neely Farms are proud to present\n\n	PARTY ON THE FARM\, a full day of great music\, food and fun for all!\n\n	WHEN:  Saturday\, October 5th\, 2013\n\n	WHAT TIME: Parking Lot opens at 1:00pm for tailgating fun with Gates opening at 3:00pm and performances starting at 4:30 pm.\n\n	WHERE:  Neely Farms\, south of Hwy 278  on Covington Bypass Rd in Covington\, Georgia (9135 Dr M L King Jr Ave\, Covington\, GA 30014) Check out the map on the FAQs page\n\n	WHO:\n\n	\n		Craig Campbell   A Georgia native who knows how to throw a farm party\, the now relocated Nashville recording artist\, will be this year's Party on the Farm headliner . Known for his chart-topping hits "Family Man" and "Fish"\, Craig's recently released hit "Outta My Head"  off his new 'Never Regret' album is gaining momentum in the radio polls.\n	\n		Highway 55-  The 2013 Georgia Music Awards-Band of the year & 2012 Georgia Country-Music Band of the Year will be coming off their first national tour and ready to show Covington\, GA they know how to party!\n	\n		Jordan Rager-  The local star\, as seen on the popular TV show "The Voice"\, and his talented band will be there to crank the party up a notch or two!\n	\n		Taylor Marie- Born and raised in Covington\, this 2013 nominee for Female Artist of the Year by the Georgia Country Awards\, will perform songs featured on Georgia country radio.\n	\n		Ashley Walden- Another Covington native\, this talented singer/songwriter will be performing some of her self-written songs featured on Atlanta's 94.9 The Bull radio station!\n	\n		Drew Parker- Covington's hometown favorite and nominated 2013 Male Artist of the Year by the Georgia Country Awards will get the party started!\n\n\n	HOW MUCH: Tickets are only $20 in advance or $30 at the gate.  Parking is only $5 cash per vehicle!\n\n	Neely Farms offers a large amphitheater style hillside that ensures that everyone will  have a great view of the stage. Folding bag chairs and blankets are welcome to be used in the seating area. Standing room will be provided at the front of the stage for the partygoers! The show will go on rain or shine! Food and drink vendors will be on site!\n\n	\n\n	BUY TICKETS NOW!  http://partyonthefarmgeorgia.ticketleap.com/partyonthefarm2013/
X-ALT-DESC;FMTTYPE=text/html:<p>\n	<span style="color: rgb(0\, 0\, 0)\;">Six String Southern Productions and Neely Farms are proud to present</span><br />\n	<span style="color: rgb(0\, 0\, 0)\;"><strong>PARTY ON THE FARM</strong>\, a full day of great music\, food and fun for all!</span></p>\n<p>\n	<span style="color: rgb(0\, 0\, 0)\;"><strong>WHEN</strong>:&nbsp\; Saturday\, October 5th\, 2013</span></p>\n<p>\n	<strong>WHAT TIME</strong>: Parking Lot opens at 1:00pm for tailgating fun with Gates opening at 3:00pm and performances starting at 4:30 pm.</p>\n<p>\n	<span style="color: rgb(0\, 0\, 0)\;"><strong>WHERE</strong>:&nbsp\; Neely Farms\, south of Hwy 278&nbsp\; on Covington Bypass Rd in Covington\, Georgia (9135 Dr M L King Jr Ave\, Covington\, GA 30014) Check out the map on the FAQs page</span></p>\n<p>\n	<span style="color: rgb(0\, 0\, 0)\;"><strong>WHO</strong>:</span></p>\n<ul>\n	<li>\n		<span style="color: rgb(0\, 0\, 0)\;"><strong>Craig Campbell &ndash\; </strong>A Georgia native who knows how to throw a farm party\, the now relocated Nashville recording artist\, will be this year&rsquo\;s&nbsp\;Party on the Farm headliner&nbsp\;. Known for his chart-topping hits &ldquo\;Family Man&rdquo\; and &ldquo\;Fish&rdquo\;\, Craig&rsquo\;s recently released hit &ldquo\;Outta My Head&rdquo\;&nbsp\; off his new &lsquo\;Never Regret&rsquo\; album is gaining momentum in the radio polls.</span></li>\n	<li>\n		<span style="color: rgb(0\, 0\, 0)\;"><strong>Highway 55-&nbsp\; </strong>The 2013 Georgia Music Awards-Band of the year &amp\; 2012 Georgia Country-Music Band of the Year will be coming off their first national tour and ready to show Covington\, GA they know how to party!</span></li>\n	<li>\n		<span style="color: rgb(0\, 0\, 0)\;"><strong>Jordan Rager-</strong>&nbsp\;&nbsp\;The local star\, as seen on the popular TV show &ldquo\;The Voice&rdquo\;\, and his talented band will be there to crank the party up a notch or two!</span></li>\n	<li>\n		<span style="color: rgb(0\, 0\, 0)\;"><strong>Taylor Marie-&nbsp\;</strong>Born and raised in Covington\, this 2013 nominee&nbsp\;for&nbsp\;Female&nbsp\;Artist of the Year by the Georgia Country Awards\, will perform songs featured on Georgia country radio.</span></li>\n	<li>\n		<span style="color: rgb(0\, 0\, 0)\;"><strong>Ashley Walden- </strong>Another Covington native\, this talented singer/songwriter will be performing some of her self-written songs featured on Atlanta&rsquo\;s 94.9 The Bull radio station!</span></li>\n	<li>\n		<strong>Drew Parker- </strong>Covington&rsquo\;s <span style="color: rgb(0\, 0\, 0)\;">hometown favorite and nominated 2013 Male&nbsp\;Artist of the Year by the Georgia Country Awards&nbsp\;will&nbsp\;get the party started!</span></li>\n</ul>\n<p>\n	<span style="color: rgb(0\, 0\, 0)\;"><strong>HOW MUCH</strong>: Tickets are only $20 in advance or $30 at the gate.&nbsp\; Parking is only $5 cash&nbsp\;per vehicle!</span></p>\n<p>\n	Neely Farms offers a large&nbsp\;amphitheater style hillside that ensures that everyone will&nbsp\; have a great view of the stage. Folding bag chairs and blankets are&nbsp\;welcome to be used in the seating area. Standing room will be provided at the front of the stage for the partygoers! The show will go on rain or shine! Food and drink vendors will be on site!<br />\n	<br />\n	<span style="color: rgb(255\, 0\, 0)\;">BUY TICKETS NOW!&nbsp\; </span><a href="http://partyonthefarmgeorgia.ticketleap.com/partyonthefarm2013/"><span style="color: rgb(255\, 0\, 0)\;">http://partyonthefarmgeorgia.ticketleap.com/partyonthefarm2013/</span></a></p>\n
LOCATION:Neely Farms\, south of Hwy 278 on Covington Bypass Rd in Covington\, Georgia (9135 Dr M L King Jr Ave\, Covington\, GA 30014)
UID:e.1627.73
SEQUENCE:3
DTSTAMP:20260419T201126Z
URL:https://business.newtonchamber.com/events/details/party-on-the-farm-2013-10-05-2013-73
END:VEVENT

END:VCALENDAR
