BEGIN:VCALENDAR
VERSION:2.0
PRODID:-//ChamberMaster//Event Calendar 2.0//EN
METHOD:PUBLISH
X-PUBLISHED-TTL:P3D
REFRESH-INTERVAL:P3D
CALSCALE:GREGORIAN
BEGIN:VEVENT
DTSTART:20180404T233000Z
DTEND:20180405T003000Z
X-MICROSOFT-CDO-ALLDAYEVENT:FALSE
SUMMARY:Oxford College to honor legacy of MLK on April 4
DESCRIPTION:Oxford College of Emory University will hold a special observance on Wednesday\, April 4\, in tribute to Martin Luther King Jr. and in commemoration of the 50th anniversary of his assassination on April 4\, 1968.  "Dr. King's Legacy: Beyond the Dream" will be held in at 7:30 p.m. in the sanctuary of Allen Memorial United Methodist Church in Oxford\, Ga.\, which is adjacent to the college's campus. \n\n \n\nThe featured speaker is Dr. Beverly Daniel Tatum\, Spelman College president emerita.  She is the author of several books\, including the best-selling Why Are All the Black Kids Sitting Together in the Cafeteria? and Other Conversations About Race and Can We Talk about Race? and Other Conversations in an Era of School Resegregation (2007). \n\n \n\nSpecial music for the evening will be performed by Newton County's MLK Interdenominational Choir.  \n\n\n\nAt 7:05 p.m.\, the bell of Oxford's Seney Hall will be rung 39 times\, once for each year of Dr. King's life.  Those attending are invited to join us for this special observance\, which is part of the 50th anniversary commemoration sponsored by the National Civil Rights Museum in Memphis
X-ALT-DESC;FMTTYPE=text/html:Oxford College of Emory University will hold a special observance on Wednesday\, April 4\, in tribute to Martin Luther King Jr. and in commemoration of the 50th anniversary of his assassination on April 4\, 1968.&nbsp\; &ldquo\;Dr. King&rsquo\;s Legacy: Beyond the Dream&rdquo\; will be held in at 7:30 p.m. in the sanctuary of Allen Memorial United Methodist Church in Oxford\, Ga.\, which is adjacent to the college&rsquo\;s campus.&nbsp\;<br />\n&nbsp\;<br />\nThe featured speaker is Dr. Beverly Daniel Tatum\, Spelman College president emerita.&nbsp\; She is the author of several books\, including the best-selling Why Are All the Black Kids Sitting Together in the Cafeteria?&nbsp\;and Other Conversations About Race and Can We Talk about Race? and Other Conversations in an Era of School Resegregation (2007).&nbsp\;<br />\n&nbsp\;<br />\nSpecial music for the evening will be performed by Newton County&rsquo\;s MLK Interdenominational Choir.&nbsp\;&nbsp\;<br />\n<br />\nAt 7:05 p.m.\, the bell of Oxford&rsquo\;s Seney Hall will be rung 39 times\, once for each year of Dr. King&rsquo\;s life.&nbsp\; Those attending are invited to join us for this special observance\, which is part of the 50th anniversary commemoration sponsored by the National Civil Rights Museum in Memphis
LOCATION:Allen Memorial UMC 803 Whatcoat Street Oxford\, GA 30054
UID:e.1627.5396
SEQUENCE:3
DTSTAMP:20260423T033032Z
URL:https://business.newtonchamber.com/events/details/oxford-college-to-honor-legacy-of-mlk-on-april-4-5396
END:VEVENT

END:VCALENDAR
