BEGIN:VCALENDAR
VERSION:2.0
PRODID:-//ChamberMaster//Event Calendar 2.0//EN
METHOD:PUBLISH
X-PUBLISHED-TTL:P3D
REFRESH-INTERVAL:P3D
CALSCALE:GREGORIAN
BEGIN:VEVENT
DTSTART:20180719T130000Z
DTEND:20180719T180000Z
X-MICROSOFT-CDO-ALLDAYEVENT:FALSE
SUMMARY:Open House Hiring Event
DESCRIPTION:Right at Home is a Home Care & Assistance company seeking licensed CNA's in the following counties: Newton\, Rockdale\, DeKalb\, Henry\, Walton\, Morgan\, South Gwinnett\, Fayette\, Clayton\, & South Fulton.\n\n \n\n \n\nRight at Home will be hosting an Open House Hiring Event Thursday\, July 19\, 2018 \n\n10 am to 2 pm \n\nRight at Home Office \n\n2169 Pace Street \n\nCovington\, GA 30014. \n\n \n\nApplicants will need to bring the following with: \n\n	Driver's License \n	Employment Eligibility Doc. (i.e. SS Card\, Passport\, Birth certificate) \n	CNA Card\, training certificates \n	CPR First Aid Card Current \n	TB Screening Results \n	Criminal Records Results (Within the last 30 Days) \n	Motor Vehicle Report (3years back) \n	Proof of Car Insurance \n	Direct Deposit Information (voided check\, or printout from bank)
X-ALT-DESC;FMTTYPE=text/html:<span style="color:#222222"><span style="font-family:verdana\,sans-serif"><span style="font-size:10.0pt">Right at Home is a Home Care &amp\; Assistance company seeking licensed CNA&rsquo\;s in the following counties: Newton\, Rockdale\, DeKalb\, Henry\, Walton\, Morgan\, South Gwinnett\, Fayette\, Clayton\, &amp\; South Fulton.</span></span></span><br />\n&nbsp\;<br />\n&nbsp\;<br />\n<span style="color:#222222"><span style="font-family:verdana\,sans-serif"><span style="font-size:10.0pt">Right at Home will be hosting an Open House Hiring Event Thursday\, July 19\, 2018 </span></span></span><br />\n<span style="color:#222222"><span style="font-family:verdana\,sans-serif"><span style="font-size:10.0pt">10 am to 2 pm </span></span></span><br />\n<span style="color:#222222"><span style="font-family:verdana\,sans-serif"><span style="font-size:10.0pt">Right at Home Office </span></span></span><br />\n<span style="color:#222222"><span style="font-family:verdana\,sans-serif"><span style="font-size:10.0pt">2169 Pace Street&nbsp\;</span></span></span><br />\n<span style="color:#222222"><span style="font-family:verdana\,sans-serif"><span style="font-size:10.0pt">Covington\, GA 30014. </span></span></span><br />\n&nbsp\;<br />\n<span style="color:#222222"><span style="font-family:verdana\,sans-serif"><span style="font-size:10.0pt">Applicants will need to bring the following with: </span></span></span>\n<ul>\n	<li><span style="font-family:verdana\,sans-serif"><span style="font-size:10.0pt">Driver&rsquo\;s License </span></span></li>\n	<li><span style="font-family:verdana\,sans-serif"><span style="font-size:10.0pt">Employment Eligibility Doc. (i.e. SS Card\, Passport\, Birth certificate) </span></span></li>\n	<li><span style="font-family:verdana\,sans-serif"><span style="font-size:10.0pt">CNA Card\, training certificates </span></span></li>\n	<li><span style="font-family:verdana\,sans-serif"><span style="font-size:10.0pt">CPR First Aid Card Current </span></span></li>\n	<li><span style="font-family:verdana\,sans-serif"><span style="font-size:10.0pt">TB Screening Results </span></span></li>\n	<li><span style="font-family:verdana\,sans-serif"><span style="font-size:10.0pt">Criminal Records Results (Within the last 30 Days) </span></span></li>\n	<li><span style="font-family:verdana\,sans-serif"><span style="font-size:10.0pt">Motor Vehicle Report (3years back) </span></span></li>\n	<li><span style="font-family:verdana\,sans-serif"><span style="font-size:10.0pt">Proof of Car Insurance </span></span></li>\n	<li><span style="font-family:verdana\,sans-serif"><span style="font-size:10.0pt">Direct Deposit Information (voided check\, or printout from bank)&nbsp\;</span></span></li>\n</ul>\n
LOCATION:2169 Pace Street Covington\, GA 30014
UID:e.1627.6675
SEQUENCE:3
DTSTAMP:20260423T031434Z
URL:https://business.newtonchamber.com/events/details/open-house-hiring-event-07-19-2018-6675
END:VEVENT

END:VCALENDAR
