BEGIN:VCALENDAR
VERSION:2.0
PRODID:-//ChamberMaster//Event Calendar 2.0//EN
METHOD:PUBLISH
X-PUBLISHED-TTL:P3D
REFRESH-INTERVAL:P3D
CALSCALE:GREGORIAN
BEGIN:VEVENT
DTSTART:20170220T133000Z
DTEND:20170224T220000Z
X-MICROSOFT-CDO-ALLDAYEVENT:FALSE
SUMMARY:Open House 2017!
DESCRIPTION:Burgess Amusements would like to be your interactive entertainment supplier. We will provide you with the best entertainment and food service that the industry has to offer.  We are excited to announce our NEW ITEMS for 2017\, and would like to invite you to our OPEN HOUSE the week of February 20-24\, 2017. We will be showcasing our carnival rides and game trailers\, including our NEW NINJA CLIMBING WALL.  It is similar to a rockwall\, but with a ninja twist.  It has three different climbing challenges and features LED lighting!  We will also be displaying Casino Tables\, Arcade Games\, Concessions\, and much more!  Come see it\, touch it\, and plan your next event!
X-ALT-DESC;FMTTYPE=text/html:<span style="font-family:georgia\,serif"><span style="font-size:12.0pt">Burgess Amusements would like to be your interactive entertainment supplier. We will provide you with the best entertainment and food service that the industry has to offer.&nbsp\; We are excited to announce our <strong>NEW ITEMS for 2017\,</strong> and would like to invite you to our <strong>OPEN HOUSE the week of February 20-24\, 2017.</strong> We will be showcasing our carnival rides and game trailers\, including our NEW<strong><span style="color:red"> NINJA CLIMBING WALL</span></strong>.&nbsp\; It is similar to a rockwall\, but with a ninja twist.&nbsp\; It has three different climbing challenges and features LED lighting!&nbsp\; We will also be displaying Casino Tables\, Arcade Games\, Concessions\, and much more!&nbsp\; Come see it\, touch it\, and plan your next event!&nbsp\;&nbsp\;</span></span>
LOCATION:347 Old Oxford Road Covington\, GA 30014
UID:e.1627.3778
SEQUENCE:3
DTSTAMP:20260422T042921Z
URL:https://business.newtonchamber.com/events/details/open-house-2017-3778
END:VEVENT

END:VCALENDAR
