BEGIN:VCALENDAR
VERSION:2.0
PRODID:-//ChamberMaster//Event Calendar 2.0//EN
METHOD:PUBLISH
X-PUBLISHED-TTL:P3D
REFRESH-INTERVAL:P3D
CALSCALE:GREGORIAN
BEGIN:VEVENT
DTSTART:20180628T140000Z
DTEND:20180628T180000Z
X-MICROSOFT-CDO-ALLDAYEVENT:FALSE
SUMMARY:Open House
DESCRIPTION:Right at Home will be hosting an Open House Hiring Event Thursday\, June 28\, 2018 10 am to 2 pm Right at Home Office 2169 Pace Street Covington\, GA 30014. \n\n \n\nApplicants will need to bring the following with:\n\nDriver's License\n\nEmployment Eligibility Doc. (i.e. SS Card\, Passport\, Birth certificate)\n\nCNA Card\, training certificates\n\nCPR\n\nFirst Aid Card\n\nCurrent TB Screening Results\n\nCriminal Records Results (Within the last 30 Days)\n\nMotor Vehicle Report (3years back & Within the last 30 days)\n\nProof of Car Insurance\n\nDirect Deposit Information (voided check\, or printout from bank)
X-ALT-DESC;FMTTYPE=text/html:<span style="color:#222222"><span style="font-family:verdana\,sans-serif"><span style="font-size:10.0pt">Right at Home will be hosting an Open House Hiring Event Thursday\, June 28\, 2018 10 am to 2 pm Right at Home Office 2169 Pace Street&nbsp\;Covington\, GA 30014.&nbsp\;</span></span></span><br />\n&nbsp\;<br />\n<span style="color:#222222"><span style="font-family:verdana\,sans-serif"><span style="font-size:10.0pt">Applicants will need to bring the following with:<br />\nDriver&rsquo\;s License<br />\nEmployment Eligibility Doc. (i.e. SS Card\, Passport\, Birth certificate)<br />\nCNA Card\, training certificates<br />\nCPR<br />\nFirst Aid Card<br />\nCurrent TB Screening Results<br />\nCriminal Records Results (Within the last 30 Days)<br />\nMotor Vehicle Report (3years back &amp\; Within the last 30 days)<br />\nProof of Car Insurance<br />\nDirect Deposit Information (voided check\, or printout from bank)&nbsp\;</span></span></span>
LOCATION:2169 Pace Street Covington\, GA 30014
UID:e.1627.6666
SEQUENCE:3
DTSTAMP:20260423T045752Z
URL:https://business.newtonchamber.com/events/details/open-house-06-28-2018-6666
END:VEVENT

END:VCALENDAR
