BEGIN:VCALENDAR
VERSION:2.0
PRODID:-//ChamberMaster//Event Calendar 2.0//EN
METHOD:PUBLISH
X-PUBLISHED-TTL:P3D
REFRESH-INTERVAL:P3D
CALSCALE:GREGORIAN
BEGIN:VEVENT
DTSTART:20140220T150000Z
DTEND:20140221T000000Z
X-MICROSOFT-CDO-ALLDAYEVENT:FALSE
SUMMARY:OPEN HOUSE
DESCRIPTION:Troy University - Covington Site will be hosting an OPEN HOUSE. We will be waiving all application fees the day of this event. Staff will be available to speak with potential students about programs\, careers\, and financial assistance.
X-ALT-DESC;FMTTYPE=text/html:Troy University - Covington Site will be hosting an OPEN HOUSE. We will be waiving all application fees the day of this event. Staff will be available to speak with potential students about programs\, careers\, and financial assistance.
LOCATION:1160 Monticello Street Covington\, GA 30014
UID:e.1627.94
SEQUENCE:3
DTSTAMP:20260419T141442Z
URL:https://business.newtonchamber.com/events/details/open-house-02-20-2014-94
END:VEVENT

END:VCALENDAR
