BEGIN:VCALENDAR
VERSION:2.0
PRODID:-//ChamberMaster//Event Calendar 2.0//EN
METHOD:PUBLISH
X-PUBLISHED-TTL:P3D
REFRESH-INTERVAL:P3D
CALSCALE:GREGORIAN
BEGIN:VEVENT
DTSTART:20180621T140000Z
DTEND:20180621T220000Z
X-MICROSOFT-CDO-ALLDAYEVENT:FALSE
SUMMARY:One Stop Registration Event at Georgia Piedmont Technical College - Newton Campus
DESCRIPTION:Georgia Piedmont Tech is a place where you can learn\, work and thrive.  We are currently accepting applications for Fall 2018 - Enroll Now!   Whether you are a new student interested in attending Georgia Piedmont Technical College in the Fall or a current student that wants to get registered for Fall classes\, this event is for you.\n\n\n\nStudents who enter Georgia Piedmont Technical College may select from over 40 programs of study. Check out our programs of study by visiting our website: https://www.gptc.edu/future-students/programs-of-study/\n\n\n\nInterested in applying for the Fall and attending the Newton Campus One Stop Session?  At this event\, you will be able to complete the Admissions process for the Fall 2018 semester - all in one place.  Don't miss this chance to take care of your enrollment needs in a quick and easy way. Let us know that you are coming to the Newton One Stop event - register online today!\n\n\n\nRegistration Link: https://onestopgptcjune21.eventbrite.com
X-ALT-DESC;FMTTYPE=text/html:Georgia Piedmont Tech is a place where you can learn\, work and thrive.&nbsp\; We&nbsp\;are currently accepting applications for Fall 2018 - Enroll Now!&nbsp\; &nbsp\;Whether you are a new student interested in attending Georgia Piedmont Technical College in the Fall or a current student that wants to get registered for Fall classes\, this event is for you.<br />\n<br />\nStudents who enter Georgia Piedmont Technical College may select from over 40 programs of study. Check out our programs of study by visiting our website: <a href="https://www.gptc.edu/future-students/programs-of-study/">https://www.gptc.edu/future-students/programs-of-study/</a><br />\n<br />\nInterested in applying for the Fall and attending the Newton Campus&nbsp\;One Stop Session?&nbsp\; At this event\, you will be able to complete the Admissions process for the Fall 2018 semester - all in one place.&nbsp\; Don&rsquo\;t miss this chance to take care of your enrollment needs in a quick and easy way.&nbsp\;Let us know that you are coming to&nbsp\;the Newton One Stop event -&nbsp\;register online today!<br />\n<br />\nRegistration Link: <a href="https://onestopgptcjune21.eventbrite.com/" rel="noopener" target="_blank">https://onestopgptcjune21.eventbrite.com</a>\n<p>&nbsp\;</p>\n
LOCATION:Newton Campus 10:00am 6:00pm Newton Building A Auditorium 16200 Alcovy Road Covington\, Georgia 30014
UID:e.1627.6663
SEQUENCE:3
DTSTAMP:20260423T032839Z
URL:https://business.newtonchamber.com/events/details/one-stop-registration-event-at-georgia-piedmont-technical-college-newton-campus-6663
END:VEVENT

END:VCALENDAR
