BEGIN:VCALENDAR
VERSION:2.0
PRODID:-//ChamberMaster//Event Calendar 2.0//EN
METHOD:PUBLISH
X-PUBLISHED-TTL:P3D
REFRESH-INTERVAL:P3D
CALSCALE:GREGORIAN
BEGIN:VEVENT
DTSTART:20181110T150000Z
DTEND:20181110T200000Z
X-MICROSOFT-CDO-ALLDAYEVENT:FALSE
SUMMARY:Old School Fall Festival
DESCRIPTION:OLD FASHIONED FUN! \n\nFood trucks - arts and antique vendors - kid's activities - schoolhouse museum - and lots of live music from the Dixie Dulcimers\, Mark and Lady Outlaw\, the Maloy Brothers and more!\n \n\nFor more information on attending or becoming a vendor see www.newbornschoolhouse.org or find the Historic Newborn Schoolhouse on Facebook.
X-ALT-DESC;FMTTYPE=text/html:<h2 style="font-style:italic\;"><span style="color:#26282A"><span style="font-family:helvetica\,sans-serif"><strong style="font-size:10pt">OLD FASHIONED FUN!&nbsp\;</strong></span></span></h2>\n\n<p style="font-style: italic\;"><em><font color="#26282a" face="helvetica\, sans-serif"><span style="font-size:16px">Food trucks - arts and antique vendors - kid&#39\;s activities - schoolhouse museum - and lots of live music from the Dixie Dulcimers\, Mark and Lady Outlaw\, the Maloy Brothers and more!</span></font></em></p>\n&nbsp\;<br />\n<span style="color:#26282A"><span style="font-family:helvetica\,sans-serif"><span style="font-size:10.0pt">For more information on attending or becoming a vendor see&nbsp\;</span></span></span><a href="http://www.newbornschoolhouse.org/"><span style="font-family:helvetica\,sans-serif"><span style="font-size:10.0pt">www.newbornschoolhouse.org</span></span></a><span style="color:#26282A"><span style="font-family:helvetica\,sans-serif"><span style="font-size:10.0pt"> or find the Historic Newborn Schoolhouse on Facebook.</span></span></span>
LOCATION:Historic Newborn Schoolhouse\, 4326 Highway 142\, Newborn\, GA 30056
UID:e.1627.4066
SEQUENCE:3
DTSTAMP:20260422T190528Z
URL:https://business.newtonchamber.com/events/details/old-school-fall-festival-salutes-veterans-4066
END:VEVENT

END:VCALENDAR
