BEGIN:VCALENDAR
VERSION:2.0
PRODID:-//ChamberMaster//Event Calendar 2.0//EN
METHOD:PUBLISH
X-PUBLISHED-TTL:P3D
REFRESH-INTERVAL:P3D
CALSCALE:GREGORIAN
BEGIN:VEVENT
DTSTART;VALUE=DATE:20190302
DTEND;VALUE=DATE:20190303
TRANSP:TRANSPARENT
X-MICROSOFT-CDO-ALLDAYEVENT:TRUE
SUMMARY:Oaks Course : Buddy's and Putters Pot of Gold
DESCRIPTION:Come out and try your luck at our first Leprechaun's Pot of Gold! Also come swing by Putters to enjoy one of our cold Irish drinks and Irish food!!
X-ALT-DESC;FMTTYPE=text/html:Come out and try your luck at our first Leprechaun&#39\;s Pot of Gold! Also come swing by Putters to enjoy one of our cold Irish drinks and Irish food!!
LOCATION:
UID:e.1627.6914
SEQUENCE:3
DTSTAMP:20260422T135829Z
URL:https://business.newtonchamber.com/events/details/oaks-course-buddy-s-and-putters-pot-of-gold-6914
END:VEVENT

END:VCALENDAR
