BEGIN:VCALENDAR
VERSION:2.0
PRODID:-//ChamberMaster//Event Calendar 2.0//EN
METHOD:PUBLISH
X-PUBLISHED-TTL:P3D
REFRESH-INTERVAL:P3D
CALSCALE:GREGORIAN
BEGIN:VEVENT
DTSTART;VALUE=DATE:20131012
DTEND;VALUE=DATE:20131013
TRANSP:TRANSPARENT
X-MICROSOFT-CDO-ALLDAYEVENT:TRUE
SUMMARY:North GA Camera Club Council Annual Shootout
DESCRIPTION:The annual North Georgia Camera Club Council Shootout hosted by Georgia Nature Photographers Association will be held on Saturday\, October 12 on the Emory at Oxford campus. 200-300 Amateur photographers from Georgia photography clubs will compete for prizes in an all-day photographic competition. They will be on the streets of Covington and Oxford looking for "good" shots.
X-ALT-DESC;FMTTYPE=text/html:The annual North Georgia Camera Club Council Shootout hosted by Georgia Nature Photographers Association will be held on Saturday\, October 12 on the Emory at Oxford campus. 200-300 Amateur photographers from Georgia photography clubs will compete for prizes in an all-day photographic competition. They will be on the streets of Covington and Oxford looking for &quot\;good&quot\; shots. 
LOCATION:Emory at Oxford and surrounding community
UID:e.1627.75
SEQUENCE:3
DTSTAMP:20260419T213029Z
URL:https://business.newtonchamber.com/events/details/north-ga-camera-club-council-annual-shootout-10-12-2013-75
END:VEVENT

END:VCALENDAR
