BEGIN:VCALENDAR
VERSION:2.0
PRODID:-//ChamberMaster//Event Calendar 2.0//EN
METHOD:PUBLISH
X-PUBLISHED-TTL:P3D
REFRESH-INTERVAL:P3D
CALSCALE:GREGORIAN
BEGIN:VEVENT
DTSTART:20161117T210000Z
DTEND:20161117T213000Z
X-MICROSOFT-CDO-ALLDAYEVENT:FALSE
SUMMARY:Nicky Golden Dance Company ~~RIBBON CUTTING~~
DESCRIPTION:RIBBON CUTTING~~  Nicky Golden Dance Company
X-ALT-DESC;FMTTYPE=text/html:RIBBON CUTTING~~ &nbsp\;Nicky Golden Dance Company&nbsp\;
LOCATION:Nicky Golden Dance Company 76 Chamisa Road Covington\, Georgia 30016 706-538-3482
UID:e.1627.3691
SEQUENCE:3
DTSTAMP:20260422T000327Z
URL:https://business.newtonchamber.com/events/details/nicky-golden-dance-company-ribbon-cutting-3691
END:VEVENT

END:VCALENDAR
