BEGIN:VCALENDAR
VERSION:2.0
PRODID:-//ChamberMaster//Event Calendar 2.0//EN
METHOD:PUBLISH
X-PUBLISHED-TTL:P3D
REFRESH-INTERVAL:P3D
CALSCALE:GREGORIAN
BEGIN:VEVENT
DTSTART:20180829T153000Z
DTEND:20180829T170000Z
X-MICROSOFT-CDO-ALLDAYEVENT:FALSE
SUMMARY:Newton Federal Bank Lunch & Learn: State of The Housing Marketing
DESCRIPTION:You're invited to an industry-exclusive Lunch & Learn sponsored by Newton Federal Bank.\n\nThis catered seminar serves as a chance for professionals in the Real Estate industry to\n\ngarner insight into the local housing market. Don't miss this opportunity to expand\n\nyour network and knowledge while enjoying lunch with us at no cost to you! Seats are limited\, so RSVP now at https://www.surveymonkey.com/r/RSVP_2018-Newton-County-Market-Watch-Report.
X-ALT-DESC;FMTTYPE=text/html:You&rsquo\;re invited to an industry-exclusive Lunch &amp\; Learn sponsored by Newton Federal Bank.<br />\nThis catered seminar serves as a chance for professionals in the Real Estate industry to<br />\ngarner insight into the local housing market. Don&rsquo\;t miss this opportunity to expand<br />\nyour network and knowledge while enjoying lunch with us at no cost to you! Seats are limited\, so RSVP now at&nbsp\;<span style="font-family:calibri\,sans-serif"><span style="font-size:11.0pt"><a href="https://www.surveymonkey.com/r/RSVP_2018-Newton-County-Market-Watch-Report" target="_blank">https://www.surveymonkey.com/r/RSVP_2018-Newton-County-Market-Watch-Report</a>.&nbsp\;</span></span>
LOCATION:Newton Federal Bank's Operations Center - 8460 Dr. ML King Avenue Covington\, GA 30014
UID:e.1627.6807
SEQUENCE:3
DTSTAMP:20260423T001301Z
URL:https://business.newtonchamber.com/events/details/newton-federal-bank-lunch-learn-state-of-the-housing-marketing-6807
END:VEVENT

END:VCALENDAR
