BEGIN:VCALENDAR
VERSION:2.0
PRODID:-//ChamberMaster//Event Calendar 2.0//EN
METHOD:PUBLISH
X-PUBLISHED-TTL:P3D
REFRESH-INTERVAL:P3D
CALSCALE:GREGORIAN
BEGIN:VEVENT
DTSTART:20180414T150000Z
DTEND:20180414T180000Z
X-MICROSOFT-CDO-ALLDAYEVENT:FALSE
SUMMARY:Newton County Family Fun Day
DESCRIPTION:The Newton County Board of Commissioner's host the 1st Newton County Family Fun Day at Legion Field on April 14\, 2018 from 11a-2p.  Join us for this FREE community event.  We encourage all residents of Covington\, Mansfield\, Newborn\, Oxford\, Porterdale and Social Circle to come one\, come all for FREE food\, live entertainment and much more!
X-ALT-DESC;FMTTYPE=text/html:The Newton County Board of Commissioner&#39\;s host the 1st <strong>Newton County Family Fun Day</strong> at Legion Field on April 14\, 2018 from 11a-2p.&nbsp\; Join us for this FREE community event.&nbsp\; We encourage all residents of Covington\, Mansfield\, Newborn\, Oxford\, Porterdale and Social Circle to come one\, come all for FREE food\, live entertainment and much more!&nbsp\;&nbsp\;
LOCATION:LEGION FIELD 3173 MILL STREET COVINGTON\,GA
UID:e.1627.4395
SEQUENCE:3
DTSTAMP:20260423T015908Z
URL:https://business.newtonchamber.com/events/details/newton-county-family-fun-day-4395
END:VEVENT

END:VCALENDAR
