BEGIN:VCALENDAR
VERSION:2.0
PRODID:-//ChamberMaster//Event Calendar 2.0//EN
METHOD:PUBLISH
X-PUBLISHED-TTL:P3D
REFRESH-INTERVAL:P3D
CALSCALE:GREGORIAN
BEGIN:VEVENT
DTSTART:20190316T150000Z
DTEND:20190316T190000Z
X-MICROSOFT-CDO-ALLDAYEVENT:FALSE
SUMMARY:Newton County Family Fun Day
DESCRIPTION:Come celebrate #OneNewton and all Newton County has to offer with a fun-filled day for the whole family featuring music\, games\, entertainment\, hamburgers\, hot dogs\, cotton candy and more - and it is all absolutely free. The event is open to all of Newton County and will have partcipation from all the county's municipalities\, school system and more than 40 vendors. \n\nLast year's innagural event was a packed house and this year is sure to be the same. So make sure to bring your chairs and blankets and enjoy a great Saturday of free family fun!
X-ALT-DESC;FMTTYPE=text/html:Come celebrate #OneNewton and all Newton County has to offer with a fun-filled day for the whole family featuring music\, games\, entertainment\, hamburgers\, hot dogs\, cotton candy and more - and it is all absolutely free. The event is open to all of Newton County and will have partcipation from all the county&#39\;s municipalities\, school system and more than 40 vendors.&nbsp\;<br />\nLast year&#39\;s innagural event was a packed house and this year is sure to be the same. So make sure to bring your chairs and blankets and enjoy a great Saturday of free family fun!
LOCATION:Legion Field\, 3173 Mill Street NE\, Covington\, Ga
UID:e.1627.6928
SEQUENCE:3
DTSTAMP:20260422T122957Z
URL:https://business.newtonchamber.com/events/details/newton-county-family-fun-day-03-16-2019-6928
END:VEVENT

END:VCALENDAR
