BEGIN:VCALENDAR
VERSION:2.0
PRODID:-//ChamberMaster//Event Calendar 2.0//EN
METHOD:PUBLISH
X-PUBLISHED-TTL:P3D
REFRESH-INTERVAL:P3D
CALSCALE:GREGORIAN
BEGIN:VEVENT
DTSTART:20190416T230000Z
DTEND:20190417T010000Z
X-MICROSOFT-CDO-ALLDAYEVENT:FALSE
SUMMARY:Newton County Board of Commissioners Meeting
DESCRIPTION:All residents of Newton County are encouraged to attend our Board of Commissioners meetings held on the 1st and 3rd Tuesday of the month at 7pm at the Historic Courthouse.  \n\n\n\nCome and be apart of the GROWTH of #OneNewton
X-ALT-DESC;FMTTYPE=text/html:All residents of Newton County are encouraged to attend our Board of Commissioners meetings held on the 1st and 3rd Tuesday of the month at 7pm at the Historic Courthouse.&nbsp\;&nbsp\;<br />\n<br />\nCome and be apart of the GROWTH of #OneNewton&nbsp\;
LOCATION:Historic Covington Courthouse 1124 Clark Street Covington\, GA 30014
UID:e.1627.7227
SEQUENCE:3
DTSTAMP:20260422T112304Z
URL:https://business.newtonchamber.com/events/details/newton-county-board-of-commissioners-meeting-7227
END:VEVENT

END:VCALENDAR
