BEGIN:VCALENDAR
VERSION:2.0
PRODID:-//ChamberMaster//Event Calendar 2.0//EN
METHOD:PUBLISH
X-PUBLISHED-TTL:P3D
REFRESH-INTERVAL:P3D
CALSCALE:GREGORIAN
BEGIN:VEVENT
DTSTART:20181030T144500Z
DTEND:20181030T173000Z
X-MICROSOFT-CDO-ALLDAYEVENT:FALSE
SUMMARY:Newton College and Career Academy's Annual Networking Luncheon on October 30\, 2018.
DESCRIPTION:The Newton College and Career Academy's Annual Networking Luncheon is for high school students. This is an opportunity to bring together business professionals\, community leaders\, and educators to dine and network with our student associates.  At the end of the session\, adults fill-out evaluation forms for each student at their table. The students will read the forms the next day and learn which professional skills they should improve on.  This exercise will help them prepare for college and career interviews.  We are requesting that each visiting adult stay for at least 2 sessions.  Dress is business professional or business casual for adults.  Please bring 12 business cards and wear your work name badge.  If you are unable to make this event\, please have someone in your organization consider attending.  The deadline to sign-up is October 26th\, 2018.  If you have any questions\, please contact Jill McGiboney at 678-625-6788.  Thank you!\n\n\n\nReservation Link:\n\nhttps://goo.gl/forms/gxOpaQZUZ4X8q1bY2
X-ALT-DESC;FMTTYPE=text/html:<span style="font-size:16px"><span style="color:rgb(0\, 0\, 255)">The Newton College and Career Academy&#39\;s Annual Networking Luncheon is&nbsp\;for high school students.&nbsp\;This is an opportunity to bring together business professionals\, community leaders\, and educators to dine and network with our student associates.&nbsp\; At the end of the session\, adults fill-out evaluation forms for each student at their table. The students will read the forms the next day and learn which professional skills they should improve on.&nbsp\; This exercise will help them prepare for college and career interviews.&nbsp\; We are requesting that each visiting adult stay for at least 2 sessions.&nbsp\; Dress is business&nbsp\;professional or business casual for adults.&nbsp\; Please bring 12&nbsp\;business cards and wear&nbsp\;your work&nbsp\;name badge.&nbsp\; If you are unable to make this event\, please have someone in your organization consider attending.&nbsp\; The deadline to sign-up is October 26th\, 2018.&nbsp\; If you have any questions\, please contact Jill McGiboney at 678-625-6788.&nbsp\; Thank you!<br />\n<br />\n<span style="font-size:18px">Reservation Link:</span></span><br />\n<a href="https://goo.gl/forms/gxOpaQZUZ4X8q1bY2"><span style="color:rgb(0\, 0\, 255)"><span style="font-size:18px">https://goo.gl/forms/gxOpaQZUZ4X8q1bY2</span></span></a></span><br />\n<br />\n&nbsp\;
LOCATION:Newton College and Career Academy 144 Ram Drive Covington\, Ga. 30014 678-625-6788
UID:e.1627.6808
SEQUENCE:3
DTSTAMP:20260422T204549Z
URL:https://business.newtonchamber.com/events/details/newton-college-and-career-academy-s-annual-networking-luncheon-on-october-30-2018-6808
END:VEVENT

END:VCALENDAR
