BEGIN:VCALENDAR
VERSION:2.0
PRODID:-//ChamberMaster//Event Calendar 2.0//EN
METHOD:PUBLISH
X-PUBLISHED-TTL:P3D
REFRESH-INTERVAL:P3D
CALSCALE:GREGORIAN
BEGIN:VEVENT
DTSTART:20180428T120000Z
DTEND:20180428T180000Z
X-MICROSOFT-CDO-ALLDAYEVENT:FALSE
SUMMARY:Newborn Hornyhead Fish Festival & Tournament
DESCRIPTION:32nd Annual Horneyhead Festival will be Saturday\, April 28th\, 8am-2pm: Tournament  starts at 8\, Vendors arrive at 9\, Parade at 10\, followed by car show\, and winners of the fishing tournament announced at 1pm
X-ALT-DESC;FMTTYPE=text/html:<span style="background-color:rgb(254\, 254\, 242)\; color:rgb(51\, 51\, 51)\; font-family:arial\; font-size:12px"><span style="font-size:14px"><span style="font-family:times new roman"><strong>32nd&nbsp\;</strong></span></span></span><span style="font-size:14px"><span style="font-family:times new roman"><strong>Annual Horneyhead Festival will be Saturday\, April 28<sup>th</sup>\, 8am-2pm: Tournament &nbsp\;starts at 8\, Vendors arrive at 9\, Parade at 10\, followed by car show\, and winners of the fishing tournament announced at 1pm</strong></span></span>
LOCATION:4326 Hwy 142 in Newborn\, GA at the Historic Newborn Schoolhouse / Community Center
UID:e.1627.4394
SEQUENCE:3
DTSTAMP:20260423T020107Z
URL:https://business.newtonchamber.com/events/details/newborn-hornyhead-fish-festival-tournament-4394
END:VEVENT

END:VCALENDAR
