BEGIN:VCALENDAR
VERSION:2.0
PRODID:-//ChamberMaster//Event Calendar 2.0//EN
METHOD:PUBLISH
X-PUBLISHED-TTL:P3D
REFRESH-INTERVAL:P3D
CALSCALE:GREGORIAN
BEGIN:VEVENT
DTSTART:20171212T220000Z
DTEND:20171212T233000Z
X-MICROSOFT-CDO-ALLDAYEVENT:FALSE
SUMMARY:New Member Reception
DESCRIPTION:Make plans to welcome our new 2017 members at the Christmas After Hours onTuesday\, December 12th from 5:00 pm - 6:30 pm. This event is FREE to new members and $5 for current members. This will include two drink tickets (beer and wine) and appetizers.
X-ALT-DESC;FMTTYPE=text/html:<table border="0" cellpadding="0" cellspacing="0" class="galileo-ap-layout-editor" style="border-collapse: collapse\; table-layout: fixed\; color: rgb(0\, 0\, 0)\; background-color: rgb(255\, 255\, 255)\; min-width: 100%\;" width="100%">\n	<tbody>\n		<tr>\n			<td align="left" class="article editor-col OneColumnMobile" valign="top" width="50%">\n			<div class="gl-contains-text">\n			<table border="0" cellpadding="0" cellspacing="0" style="border-collapse: collapse\; table-layout: fixed\;" width="100%">\n				<tbody>\n					<tr>\n						<td align="left" class="editor-text article-text" style="color: rgb(64\, 63\, 66)\; display: block\; font-family: Arial\, Verdana\, Helvetica\, sans-serif\; font-size: 12px\; padding: 10px 10px 10px 20px\; word-wrap: break-word\; -webkit-font-smoothing: antialiased !important\;" valign="top">\n						<div class="text-container galileo-ap-content-editor">\n						<div><span style="font-size: 14px\;">Make plans to welcome our new 2017 members at the Christmas After Hours </span><span style="font-size: 14px\;">on</span><span style="font-size: 14px\; font-weight: bold\;">Tuesday</span><span style="font-size: 14px\; font-weight: bold\;">\, December 12th&nbsp\;</span><span style="font-size: 14px\;">from 5:00 pm - 6:30 pm. This event is FREE to new members and $5 for current members. This will include two drink tickets (beer and wine) and appetizers.</span></div>\n\n						<div>&nbsp\;</div>\n\n						<div>&nbsp\;</div>\n						</div>\n						</td>\n					</tr>\n				</tbody>\n			</table>\n			</div>\n			</td>\n			<td align="left" class="article editor-col OneColumnMobile" valign="top" width="50%">\n			<div class="gl-contains-image">&nbsp\;</div>\n			</td>\n		</tr>\n	</tbody>\n</table>\n
LOCATION:The Center 2104 Washington Street Covington\, GA 30014
UID:e.1627.4331
SEQUENCE:3
DTSTAMP:20260422T185859Z
URL:https://business.newtonchamber.com/events/details/new-member-reception-4331
END:VEVENT

END:VCALENDAR
