BEGIN:VCALENDAR
VERSION:2.0
PRODID:-//ChamberMaster//Event Calendar 2.0//EN
METHOD:PUBLISH
X-PUBLISHED-TTL:P3D
REFRESH-INTERVAL:P3D
CALSCALE:GREGORIAN
BEGIN:VEVENT
DTSTART:20180628T220000Z
DTEND:20180628T230000Z
X-MICROSOFT-CDO-ALLDAYEVENT:FALSE
SUMMARY:Music Under the Stars
DESCRIPTION:Join us for a special evening of delicious dining and live music "under the stars"
X-ALT-DESC;FMTTYPE=text/html:Join us for a special evening of delicious dining and live music &quot\;under the stars&quot\;
LOCATION:Benton House Covington 7155 Dearing Road Covington\, GA 30014
UID:e.1627.6637
SEQUENCE:3
DTSTAMP:20260423T031241Z
URL:https://business.newtonchamber.com/events/details/music-under-the-stars-6637
END:VEVENT

END:VCALENDAR
