BEGIN:VCALENDAR
VERSION:2.0
PRODID:-//ChamberMaster//Event Calendar 2.0//EN
METHOD:PUBLISH
X-PUBLISHED-TTL:P3D
REFRESH-INTERVAL:P3D
CALSCALE:GREGORIAN
BEGIN:VEVENT
DTSTART:20161022T230000Z
DTEND:20161023T010000Z
X-MICROSOFT-CDO-ALLDAYEVENT:FALSE
SUMMARY:Movie on the Lawn @ Common Ground
DESCRIPTION:Bring the whole family & a blanket for the lawn! This event will also serve as a fundraiser for the Montessori school in Covington.
X-ALT-DESC;FMTTYPE=text/html:Bring the whole family &amp\; a blanket for the lawn! This event will also serve as a fundraiser for the Montessori school in Covington.&nbsp\;
LOCATION:Common Ground Coffee House 5128 Emory Street NW Covington\, GA 30014
UID:e.1627.3080
SEQUENCE:3
DTSTAMP:20260421T223602Z
URL:https://business.newtonchamber.com/events/details/movie-on-the-lawn-3080
END:VEVENT

END:VCALENDAR
