BEGIN:VCALENDAR
VERSION:2.0
PRODID:-//ChamberMaster//Event Calendar 2.0//EN
METHOD:PUBLISH
X-PUBLISHED-TTL:P3D
REFRESH-INTERVAL:P3D
CALSCALE:GREGORIAN
BEGIN:VEVENT
DTSTART:20190505T180000Z
DTEND:20190505T210000Z
X-MICROSOFT-CDO-ALLDAYEVENT:FALSE
SUMMARY:Mother's Day Tea at The Oaks Golf Course
DESCRIPTION:Mothers and child tea party\, assorted teas and scones. Celebrate or remember your Mother with us. If you have a special picture of your Mother\, bring it with you and share your memories. Tickets are available on our website or call in and reserve a spot. $10 per ticket.
X-ALT-DESC;FMTTYPE=text/html:Mothers and child tea party\, assorted teas and scones. Celebrate or remember your Mother with us. If you have a special picture of your Mother\, bring it with you and share your memories. Tickets are available on our website or call in and reserve a spot. $10 per ticket.&nbsp\;
LOCATION:
UID:e.1627.6916
SEQUENCE:3
DTSTAMP:20260422T111349Z
URL:https://business.newtonchamber.com/events/details/mother-s-day-tea-at-the-oaks-golf-course-6916
END:VEVENT

END:VCALENDAR
