BEGIN:VCALENDAR
VERSION:2.0
PRODID:-//ChamberMaster//Event Calendar 2.0//EN
METHOD:PUBLISH
X-PUBLISHED-TTL:P3D
REFRESH-INTERVAL:P3D
CALSCALE:GREGORIAN
BEGIN:VEVENT
DTSTART:20190326T130000Z
DTEND:20190326T180000Z
X-MICROSOFT-CDO-ALLDAYEVENT:FALSE
SUMMARY:Montessori School of Covington's Open House
DESCRIPTION:The Montessori School of Covington will host an Open House March 25-March 29\, 2019\, from 9am-2pm\, daily. Prospective families are invited to tour classrooms\, observe classroom routine\, and speak to teachers.\n\n\n\nMSC is a nonprofit school that fosters independent learning through a unique environment of hands-on\, developmentally appropriate activity and small class sizes\, all backed by current brain research. Montessori addresses the whole child physical\, social\, emotional\, and academic with attention to social responsibility\, mutual respect\, community service\, multicultural awareness\, movement\, and individualized lessons.\n\n\n\nThe Montessori School of Covington\, located a few blocks from the Covington Square in Clarks Grove Neighborhood & 5 minutes from I-20\, serves students ages 3-14 (8th grade)\, can be reached at (770)788-7779.
X-ALT-DESC;FMTTYPE=text/html:The Montessori School of Covington will host an Open House March 25-March 29\, 2019\, from 9am-2pm\, daily. Prospective families are invited to tour classrooms\, observe classroom routine\, and speak to teachers.<br />\n<br />\nMSC is a nonprofit school that fosters independent learning through a unique environment of hands-on\, developmentally appropriate activity and small class sizes\, all backed by current brain research. Montessori addresses the whole child&mdash\;physical\, social\, emotional\, and academic&mdash\;with attention to social responsibility\, mutual respect\, community service\, multicultural awareness\, movement\, and individualized lessons.<br />\n<br />\nThe Montessori School of Covington\, located a few blocks from the Covington Square in Clarks Grove Neighborhood &amp\; 5 minutes from I-20\, serves students ages 3-14 (8<sup>th</sup> grade)\, can be reached at (770)788-7779.
LOCATION:4108 Summer Street Covington\, GA 30014
UID:e.1627.6902
SEQUENCE:3
DTSTAMP:20260422T123013Z
URL:https://business.newtonchamber.com/events/details/montessori-school-of-covington-s-open-house-03-26-2019-6902
END:VEVENT

END:VCALENDAR
