BEGIN:VCALENDAR
VERSION:2.0
PRODID:-//ChamberMaster//Event Calendar 2.0//EN
METHOD:PUBLISH
X-PUBLISHED-TTL:P3D
REFRESH-INTERVAL:P3D
CALSCALE:GREGORIAN
BEGIN:VEVENT
DTSTART:20190507T210000Z
DTEND:20190507T230000Z
X-MICROSOFT-CDO-ALLDAYEVENT:FALSE
SUMMARY:MOM-osa Night Out
DESCRIPTION:CALLING ALL MOMS! Do you need a night out? Just in time for Mother's Day\, get your friends together for Beauty Bar Med Spa's MOM-osa night Out!\n\nCome join us for free mini- massage services\, oxygen lounge sessions and special event pricing! \n\nComplimentary MOM-osa's at our neighbor restaurant RL's\n\nYou don't want to miss this event!
X-ALT-DESC;FMTTYPE=text/html:<strong>CALLING ALL MOMS! Do you need a night out? Just in time for Mother&#39\;s Day\, get your friends together for Beauty Bar Med Spa&#39\;s MOM-osa night Out!<br />\nCome join us for free mini- massage services\, oxygen lounge sessions and special event pricing!&nbsp\;<br />\nComplimentary MOM-osa&#39\;s at our neighbor restaurant RL&#39\;s<br />\nYou don&#39\;t want to miss this event!</strong>
LOCATION:1109 Floyd St Ne
UID:e.1627.7226
SEQUENCE:3
DTSTAMP:20260422T094929Z
URL:https://business.newtonchamber.com/events/details/mom-osa-night-out-7226
END:VEVENT

END:VCALENDAR
