BEGIN:VCALENDAR
VERSION:2.0
PRODID:-//ChamberMaster//Event Calendar 2.0//EN
METHOD:PUBLISH
X-PUBLISHED-TTL:P3D
REFRESH-INTERVAL:P3D
CALSCALE:GREGORIAN
BEGIN:VEVENT
DTSTART:20160429T150000Z
DTEND:20160429T170000Z
X-MICROSOFT-CDO-ALLDAYEVENT:FALSE
SUMMARY:Membership Appreciation Cookout
DESCRIPTION:Membership Appreciation Cookout---  We would like to thank our members for their continued support of The Chamber.
X-ALT-DESC;FMTTYPE=text/html:Membership Appreciation Cookout--- &nbsp\;We would like to thank our members for their continued support of The Chamber.&nbsp\;&nbsp\;&nbsp\;&nbsp\;
LOCATION:The Chamber 2101 Clark Street Covington\,GA 30014
UID:e.1627.1738
SEQUENCE:3
DTSTAMP:20260421T134112Z
URL:https://business.newtonchamber.com/events/details/membership-appreciation-cookout-04-29-2016-1738
END:VEVENT

END:VCALENDAR
