BEGIN:VCALENDAR
VERSION:2.0
PRODID:-//ChamberMaster//Event Calendar 2.0//EN
METHOD:PUBLISH
X-PUBLISHED-TTL:P3D
REFRESH-INTERVAL:P3D
CALSCALE:GREGORIAN
BEGIN:VEVENT
DTSTART:20191021T223000Z
DTEND:20191021T233000Z
X-MICROSOFT-CDO-ALLDAYEVENT:FALSE
SUMMARY:Medicare Changes for 2020
DESCRIPTION:Join Neal Lange\, fondly known as the Medicare Man\, for a free educational program about Medicare Changes for 2020 and learn more about what to expect. Refreshments provided.
X-ALT-DESC;FMTTYPE=text/html:<span style="font-family:times new roman\,serif"><span style="font-size:12.0pt">Join Neal Lange\, fondly known as the Medicare Man\, for a free educational program about Medicare Changes for 2020 and learn more about what to expect. Refreshments provided.</span></span>
LOCATION:Benton House of Covington 7155 Dearing Road Covington\, GA 30014
UID:e.1627.7470
SEQUENCE:3
DTSTAMP:20260419T130458Z
URL:https://business.newtonchamber.com/events/details/medicare-changes-for-2020-7470
END:VEVENT

END:VCALENDAR
