BEGIN:VCALENDAR
VERSION:2.0
PRODID:-//ChamberMaster//Event Calendar 2.0//EN
METHOD:PUBLISH
X-PUBLISHED-TTL:P3D
REFRESH-INTERVAL:P3D
CALSCALE:GREGORIAN
BEGIN:VEVENT
DTSTART:20130906T180000Z
DTEND:20130906T230000Z
X-MICROSOFT-CDO-ALLDAYEVENT:FALSE
SUMMARY:McMichael's Construction 30 Year Celebration
DESCRIPTION:McMichael's Construction 30 Year Celebration: FREE BBQ & Music !!! RSVP by 08/23/13
X-ALT-DESC;FMTTYPE=text/html:McMichael&#39\;s Construction 30 Year Celebration: FREE BBQ &amp\; Music !!! RSVP by 08/23/13
LOCATION:90 Almon Road\, Covington\, GA 30014
UID:e.1627.74
SEQUENCE:3
DTSTAMP:20260419T224009Z
URL:https://business.newtonchamber.com/events/details/mcmichael-s-construction-30-year-celebration-09-06-2013-74
END:VEVENT

END:VCALENDAR
