BEGIN:VCALENDAR
VERSION:2.0
PRODID:-//ChamberMaster//Event Calendar 2.0//EN
METHOD:PUBLISH
X-PUBLISHED-TTL:P3D
REFRESH-INTERVAL:P3D
CALSCALE:GREGORIAN
BEGIN:VEVENT
DTSTART;VALUE=DATE:20190504
DTEND;VALUE=DATE:20190505
TRANSP:TRANSPARENT
X-MICROSOFT-CDO-ALLDAYEVENT:TRUE
SUMMARY:"May the Fourth be with you" at The Oaks Course
DESCRIPTION:Celebrate the fourth with us\, enjoy a grill out\, play golf\, and win prizes!!
X-ALT-DESC;FMTTYPE=text/html:Celebrate the fourth with us\, enjoy a grill out\, play golf\, and win prizes!!&nbsp\;
LOCATION:
UID:e.1627.6920
SEQUENCE:3
DTSTAMP:20260422T095029Z
URL:https://business.newtonchamber.com/events/details/may-the-fourth-be-with-you-at-the-oaks-course-6920
END:VEVENT

END:VCALENDAR
