BEGIN:VCALENDAR
VERSION:2.0
PRODID:-//ChamberMaster//Event Calendar 2.0//EN
METHOD:PUBLISH
X-PUBLISHED-TTL:P3D
REFRESH-INTERVAL:P3D
CALSCALE:GREGORIAN
BEGIN:VEVENT
DTSTART;VALUE=DATE:20190406
DTEND;VALUE=DATE:20190415
TRANSP:TRANSPARENT
X-MICROSOFT-CDO-ALLDAYEVENT:TRUE
SUMMARY:Masters Week at The Oaks Course
DESCRIPTION:Come join us for our Master week specials! We will be having deals on golf rounds and a special menu in the restuarant!
X-ALT-DESC;FMTTYPE=text/html:Come join us for our Master week specials! We will be having deals on golf rounds and a special menu in the restuarant!&nbsp\;
LOCATION:
UID:e.1627.6915
SEQUENCE:3
DTSTAMP:20260422T111000Z
URL:https://business.newtonchamber.com/events/details/masters-week-at-the-oaks-course-6915
END:VEVENT

END:VCALENDAR
